BEGIN:VCALENDAR
VERSION:2.0
PRODID:-//Six Sigma Malaysia - ECPv6.15.17.1//NONSGML v1.0//EN
CALSCALE:GREGORIAN
METHOD:PUBLISH
X-WR-CALNAME:Six Sigma Malaysia
X-ORIGINAL-URL:https://sixsigma.com.my/training
X-WR-CALDESC:Events for Six Sigma Malaysia
REFRESH-INTERVAL;VALUE=DURATION:PT1H
X-Robots-Tag:noindex
X-PUBLISHED-TTL:PT1H
BEGIN:VTIMEZONE
TZID:Asia/Kuala_Lumpur
BEGIN:STANDARD
TZOFFSETFROM:+0800
TZOFFSETTO:+0800
TZNAME:+08
DTSTART:20240101T000000
END:STANDARD
END:VTIMEZONE
BEGIN:VEVENT
DTSTART;VALUE=DATE:20250523
DTEND;VALUE=DATE:20250524
DTSTAMP:20260422T195948
CREATED:20250126T025816Z
LAST-MODIFIED:20250126T025816Z
UID:3230-1747958400-1748044799@sixsigma.com.my
SUMMARY:QS E3 Process Excellence
DESCRIPTION:This interactive program  incorporates a continuous improvement framework. Participants will be given a hands-on experience in solving critical business issues by using a structured problem-solving process and the continuous improvement methodology. Ascent E³ which comprises Envision\, Execute and Experience is a three-stage project which help a client company attain world-class operational excellence. \n  \nObjectives: \nThe QS E³ Simulation is an interactive workshop designed to demonstrate how breakthrough performance can be achieved with the hands on application of process improvement methodologies. \n  \nYou will learn: \n\nThe continuous improvement language\nWorking and practical knowledge of continuous improvement tools\nHow to achieve breakthrough performance methodologically\nTo understand the Voice of Customers and its effect on Business results\nEffective Communication and Thinking out of the box\nEliminate the undesirable effects
URL:https://sixsigma.com.my/training/event/qs-e3-process-excellence-2025-2-2/
LOCATION:MBizM Sdn. Bhd.\, Leisure Commerce Square\, Petaling Jaya\, Selangor\, 46150\, Malaysia
CATEGORIES:QS E³ Process Excellence Simulation
ATTACH;FMTTYPE=image/png:https://sixsigma.com.my/training/wp-content/uploads/2023/12/QS-E3-Process-Excellence.png
ORGANIZER;CN="MBizM Sdn. Bhd.":MAILTO:enquiry@mbizm.com
END:VEVENT
END:VCALENDAR