BEGIN:VCALENDAR
VERSION:2.0
PRODID:-//Six Sigma Malaysia - ECPv6.15.17.1//NONSGML v1.0//EN
CALSCALE:GREGORIAN
METHOD:PUBLISH
X-WR-CALNAME:Six Sigma Malaysia
X-ORIGINAL-URL:https://sixsigma.com.my/training
X-WR-CALDESC:Events for Six Sigma Malaysia
REFRESH-INTERVAL;VALUE=DURATION:PT1H
X-Robots-Tag:noindex
X-PUBLISHED-TTL:PT1H
BEGIN:VTIMEZONE
TZID:Asia/Kuala_Lumpur
BEGIN:STANDARD
TZOFFSETFROM:+0800
TZOFFSETTO:+0800
TZNAME:+08
DTSTART:20240101T000000
END:STANDARD
END:VTIMEZONE
BEGIN:VEVENT
DTSTART;VALUE=DATE:20250127
DTEND;VALUE=DATE:20250129
DTSTAMP:20260423T050046
CREATED:20250126T034045Z
LAST-MODIFIED:20250126T034045Z
UID:3232-1737936000-1738108799@sixsigma.com.my
SUMMARY:Value Stream Mapping for Manufacturing (VSM)
DESCRIPTION:Value Stream Mapping is a powerful visualization tool to see and understand the flow of material and information as a product or service makes its way through the value stream and to identify the non-value adding activities and waste present within the organization. The mapping process results in a detailed overview of the production or service  delivery flow and focus           attention on Lean concepts and the application of Lean methods enabling targeted Kaizen activities. This 2 days Value Stream Mapping training course uses a blend of theory and classroom exercises. \nObjective: \nDuring the Value Stream Mapping course delegates will develop an understanding of :-\n– Customer Value and the key elements and methods of Value Stream Mapping\n– How to define and analyse the Current State Value Map\, material and information flows\n– The three stages to develop an ideal future state map\n– How to derive a Kaizen improvement plan \nIn this Value Stream Mapping training course\, participants will learn how lean thinking has become a widely adopted improvement approach that can greatly simplify processes and improve performance. At the heart of Lean thinking is the focus on creating value for the customer and eliminating waste \nThe stream of activity within an organisation that creates customer value is called the value stream. Value Stream Mapping is the tool used to understand\, analyse and improve a value stream. The focus of this course is to provide participants with the practical skills to use value stream mapping in a manufacturing organization.
URL:https://sixsigma.com.my/training/event/value-stream-mapping-for-manufacturing-vsm-2025/
LOCATION:MBizM Sdn. Bhd.\, Leisure Commerce Square\, Petaling Jaya\, Selangor\, 46150\, Malaysia
CATEGORIES:Value Stream Mapping for Manufacturing (VSM)
ATTACH;FMTTYPE=image/png:https://sixsigma.com.my/training/wp-content/uploads/2023/12/Value-Stream-Mapping-for-Manufacturing-VSM.png
ORGANIZER;CN="MBizM Sdn. Bhd.":MAILTO:enquiry@mbizm.com
END:VEVENT
END:VCALENDAR