BEGIN:VCALENDAR
VERSION:2.0
PRODID:-//Six Sigma Malaysia - ECPv6.15.17.1//NONSGML v1.0//EN
CALSCALE:GREGORIAN
METHOD:PUBLISH
X-ORIGINAL-URL:https://sixsigma.com.my/training
X-WR-CALDESC:Events for Six Sigma Malaysia
REFRESH-INTERVAL;VALUE=DURATION:PT1H
X-Robots-Tag:noindex
X-PUBLISHED-TTL:PT1H
BEGIN:VTIMEZONE
TZID:Asia/Kuala_Lumpur
BEGIN:STANDARD
TZOFFSETFROM:+0800
TZOFFSETTO:+0800
TZNAME:+08
DTSTART:20230101T000000
END:STANDARD
END:VTIMEZONE
BEGIN:VEVENT
DTSTART;VALUE=DATE:20260406
DTEND;VALUE=DATE:20260409
DTSTAMP:20260422T234834
CREATED:20251028T111941Z
LAST-MODIFIED:20251028T111941Z
UID:10000265-1775433600-1775692799@sixsigma.com.my
SUMMARY:Lean Six Sigma Yellow Belt Classroom Training
DESCRIPTION:The Yellow Belt Participants will have in-depth knowledge of Lean Six Sigma and the five phases applied in practical terms. This course is designed to provide a broad understanding of Lean Six Sigma methodology\, concepts\, and language\, along with a complete toolbox of basic process improvement methods. \nThis programme was developed to encourage the candidates to be responsible for the development of process maps to support Lean Six Sigma projects. The Yellow Belt Participants will participate as core team members or subject matter experts on a project. Yellow Belt Participants will gain knowledge of Lean enterprise concepts\, enabling them to identify non-value-added elements and activities.
URL:https://sixsigma.com.my/training/event/lean-six-sigma-yellow-belt-classroom-training-2-2/
LOCATION:MBizM Sdn. Bhd.\, Leisure Commerce Square\, Petaling Jaya\, Selangor\, 46150\, Malaysia
CATEGORIES:Lean Six Sigma Yellow Belt (IASSC Certification)
ATTACH;FMTTYPE=image/png:https://sixsigma.com.my/training/wp-content/uploads/2023/06/Lean-Six-Sigma-Yellow-Belt-Classroom-training-Event.png
ORGANIZER;CN="MBizM Sdn. Bhd.":MAILTO:enquiry@mbizm.com
END:VEVENT
BEGIN:VEVENT
DTSTART;VALUE=DATE:20260112
DTEND;VALUE=DATE:20260115
DTSTAMP:20260422T234834
CREATED:20251028T111901Z
LAST-MODIFIED:20251028T111901Z
UID:10000264-1768176000-1768435199@sixsigma.com.my
SUMMARY:Lean Six Sigma Yellow Belt Classroom Training
DESCRIPTION:The Yellow Belt Participants will have in-depth knowledge of Lean Six Sigma and the five phases applied in practical terms. This course is designed to provide a broad understanding of Lean Six Sigma methodology\, concepts\, and language\, along with a complete toolbox of basic process improvement methods. \nThis programme was developed to encourage the candidates to be responsible for the development of process maps to support Lean Six Sigma projects. The Yellow Belt Participants will participate as core team members or subject matter experts on a project. Yellow Belt Participants will gain knowledge of Lean enterprise concepts\, enabling them to identify non-value-added elements and activities.
URL:https://sixsigma.com.my/training/event/lean-six-sigma-yellow-belt-classroom-training-2/
LOCATION:MBizM Sdn. Bhd.\, Leisure Commerce Square\, Petaling Jaya\, Selangor\, 46150\, Malaysia
CATEGORIES:Lean Six Sigma Yellow Belt (IASSC Certification)
ATTACH;FMTTYPE=image/png:https://sixsigma.com.my/training/wp-content/uploads/2023/06/Lean-Six-Sigma-Yellow-Belt-Classroom-training-Event.png
ORGANIZER;CN="MBizM Sdn. Bhd.":MAILTO:enquiry@mbizm.com
END:VEVENT
BEGIN:VEVENT
DTSTART;VALUE=DATE:20251006
DTEND;VALUE=DATE:20251009
DTSTAMP:20260422T234834
CREATED:20250301T045134Z
LAST-MODIFIED:20250301T045134Z
UID:10000228-1759708800-1759967999@sixsigma.com.my
SUMMARY:Lean Six Sigma Yellow Belt Classroom Training
DESCRIPTION:The Yellow Belt Participants will have in-depth knowledge of Lean Six Sigma and the five phases applied in practical terms. This course is designed to provide a broad understanding of Lean Six Sigma methodology\, concepts\, and language\, along with a complete toolbox of basic process improvement methods. \nThis programme was developed to encourage the candidates to be responsible for the development of process maps to support Lean Six Sigma projects. The Yellow Belt Participants will participate as core team members or subject matter experts on a project. Yellow Belt Participants will gain knowledge of Lean enterprise concepts\, enabling them to identify non-value-added elements and activities.
URL:https://sixsigma.com.my/training/event/lean-six-sigma-yellow-belt-classroom-training/
LOCATION:MBizM Sdn. Bhd.\, Leisure Commerce Square\, Petaling Jaya\, Selangor\, 46150\, Malaysia
CATEGORIES:Lean Six Sigma Yellow Belt (IASSC Certification)
ATTACH;FMTTYPE=image/png:https://sixsigma.com.my/training/wp-content/uploads/2023/06/Lean-Six-Sigma-Yellow-Belt-Classroom-training-Event.png
ORGANIZER;CN="MBizM Sdn. Bhd.":MAILTO:enquiry@mbizm.com
END:VEVENT
BEGIN:VEVENT
DTSTART;VALUE=DATE:20250707
DTEND;VALUE=DATE:20250710
DTSTAMP:20260422T234834
CREATED:20250301T045052Z
LAST-MODIFIED:20250301T045052Z
UID:10000227-1751846400-1752105599@sixsigma.com.my
SUMMARY:Lean Six Sigma Yellow Belt Classroom Training
DESCRIPTION:The Yellow Belt Participants will have in-depth knowledge of Lean Six Sigma and the five phases applied in practical terms. This course is designed to provide a broad understanding of Lean Six Sigma methodology\, concepts\, and language\, along with a complete toolbox of basic process improvement methods. \nThis programme was developed to encourage the candidates to be responsible for the development of process maps to support Lean Six Sigma projects. The Yellow Belt Participants will participate as core team members or subject matter experts on a project. Yellow Belt Participants will gain knowledge of Lean enterprise concepts\, enabling them to identify non-value-added elements and activities.
URL:https://sixsigma.com.my/training/event/lean-six-sigma-yellow-belt-classroom-training-2025-2-2/
LOCATION:MBizM Sdn. Bhd.\, Leisure Commerce Square\, Petaling Jaya\, Selangor\, 46150\, Malaysia
CATEGORIES:Lean Six Sigma Yellow Belt (IASSC Certification)
ATTACH;FMTTYPE=image/png:https://sixsigma.com.my/training/wp-content/uploads/2023/06/Lean-Six-Sigma-Yellow-Belt-Classroom-training-Event.png
ORGANIZER;CN="MBizM Sdn. Bhd.":MAILTO:enquiry@mbizm.com
END:VEVENT
BEGIN:VEVENT
DTSTART;VALUE=DATE:20250407
DTEND;VALUE=DATE:20250410
DTSTAMP:20260422T234834
CREATED:20250126T065638Z
LAST-MODIFIED:20250126T065638Z
UID:10000218-1743984000-1744243199@sixsigma.com.my
SUMMARY:Lean Six Sigma Yellow Belt Classroom Training
DESCRIPTION:The Yellow Belt Participants will have in-depth knowledge of Lean Six Sigma and the five phases applied in practical terms. This course is designed to provide a broad understanding of Lean Six Sigma methodology\, concepts\, and language\, along with a complete toolbox of basic process improvement methods. \nThis programme was developed to encourage the candidates to be responsible for the development of process maps to support Lean Six Sigma projects. The Yellow Belt Participants will participate as core team members or subject matter experts on a project. Yellow Belt Participants will gain knowledge of Lean enterprise concepts\, enabling them to identify non-value-added elements and activities.
URL:https://sixsigma.com.my/training/event/lean-six-sigma-yellow-belt-classroom-training-2025-2/
LOCATION:MBizM Sdn. Bhd.\, Leisure Commerce Square\, Petaling Jaya\, Selangor\, 46150\, Malaysia
CATEGORIES:Lean Six Sigma Yellow Belt (IASSC Certification)
ATTACH;FMTTYPE=image/png:https://sixsigma.com.my/training/wp-content/uploads/2023/06/Lean-Six-Sigma-Yellow-Belt-Classroom-training-Event.png
ORGANIZER;CN="MBizM Sdn. Bhd.":MAILTO:enquiry@mbizm.com
END:VEVENT
BEGIN:VEVENT
DTSTART;VALUE=DATE:20250107
DTEND;VALUE=DATE:20250110
DTSTAMP:20260422T234834
CREATED:20250126T065524Z
LAST-MODIFIED:20250126T065524Z
UID:10000217-1736208000-1736467199@sixsigma.com.my
SUMMARY:Lean Six Sigma Yellow Belt Classroom Training
DESCRIPTION:The Yellow Belt Participants will have in-depth knowledge of Lean Six Sigma and the five phases applied in practical terms. This course is designed to provide a broad understanding of Lean Six Sigma methodology\, concepts\, and language\, along with a complete toolbox of basic process improvement methods. \nThis programme was developed to encourage the candidates to be responsible for the development of process maps to support Lean Six Sigma projects. The Yellow Belt Participants will participate as core team members or subject matter experts on a project. Yellow Belt Participants will gain knowledge of Lean enterprise concepts\, enabling them to identify non-value-added elements and activities.
URL:https://sixsigma.com.my/training/event/lean-six-sigma-yellow-belt-classroom-training-2025/
LOCATION:MBizM Sdn. Bhd.\, Leisure Commerce Square\, Petaling Jaya\, Selangor\, 46150\, Malaysia
CATEGORIES:Lean Six Sigma Yellow Belt (IASSC Certification)
ATTACH;FMTTYPE=image/png:https://sixsigma.com.my/training/wp-content/uploads/2023/06/Lean-Six-Sigma-Yellow-Belt-Classroom-training-Event.png
ORGANIZER;CN="MBizM Sdn. Bhd.":MAILTO:enquiry@mbizm.com
END:VEVENT
BEGIN:VEVENT
DTSTART;VALUE=DATE:20241009
DTEND;VALUE=DATE:20241012
DTSTAMP:20260422T234834
CREATED:20240702T032424Z
LAST-MODIFIED:20240702T032424Z
UID:10000170-1728432000-1728691199@sixsigma.com.my
SUMMARY:Lean Six Sigma Yellow Belt Classroom Training
DESCRIPTION:The Yellow Belt Participants will have in-depth knowledge of Lean Six Sigma and the five phases applied in practical terms. This course is designed to provide a broad understanding of Lean Six Sigma methodology\, concepts\, and language\, along with a complete toolbox of basic process improvement methods. \nThis programme was developed to encourage the candidates to be responsible for the development of process maps to support Lean Six Sigma projects. The Yellow Belt Participants will participate as core team members or subject matter experts on a project. Yellow Belt Participants will gain knowledge of Lean enterprise concepts\, enabling them to identify non-value-added elements and activities.
URL:https://sixsigma.com.my/training/event/lean-six-sigma-yellow-belt-classroom-training-2024-2/
LOCATION:MBizM Sdn. Bhd.\, Leisure Commerce Square\, Petaling Jaya\, Selangor\, 46150\, Malaysia
CATEGORIES:Lean Six Sigma Yellow Belt (IASSC Certification)
ATTACH;FMTTYPE=image/png:https://sixsigma.com.my/training/wp-content/uploads/2023/06/Lean-Six-Sigma-Yellow-Belt-Classroom-training-Event.png
ORGANIZER;CN="MBizM Sdn. Bhd.":MAILTO:enquiry@mbizm.com
END:VEVENT
BEGIN:VEVENT
DTSTART;VALUE=DATE:20240703
DTEND;VALUE=DATE:20240706
DTSTAMP:20260422T234834
CREATED:20240702T032349Z
LAST-MODIFIED:20240703T035342Z
UID:10000169-1719964800-1720223999@sixsigma.com.my
SUMMARY:Lean Six Sigma Yellow Belt Classroom Training
DESCRIPTION:The Yellow Belt Participants will have in-depth knowledge of Lean Six Sigma and the five phases applied in practical terms. This course is designed to provide a broad understanding of Lean Six Sigma methodology\, concepts\, and language\, along with a complete toolbox of basic process improvement methods. \nThis programme was developed to encourage the candidates to be responsible for the development of process maps to support Lean Six Sigma projects. The Yellow Belt Participants will participate as core team members or subject matter experts on a project. Yellow Belt Participants will gain knowledge of Lean enterprise concepts\, enabling them to identify non-value-added elements and activities.
URL:https://sixsigma.com.my/training/event/lean-six-sigma-yellow-belt-classroom-training-2024/
LOCATION:MBizM Sdn. Bhd.\, Leisure Commerce Square\, Petaling Jaya\, Selangor\, 46150\, Malaysia
CATEGORIES:Lean Six Sigma Yellow Belt (IASSC Certification)
ATTACH;FMTTYPE=image/png:https://sixsigma.com.my/training/wp-content/uploads/2023/06/Lean-Six-Sigma-Yellow-Belt-Classroom-training-Event.png
ORGANIZER;CN="MBizM Sdn. Bhd.":MAILTO:enquiry@mbizm.com
END:VEVENT
END:VCALENDAR