BEGIN:VCALENDAR
VERSION:2.0
PRODID:-//Six Sigma Malaysia - ECPv6.15.17.1//NONSGML v1.0//EN
CALSCALE:GREGORIAN
METHOD:PUBLISH
X-WR-CALNAME:Six Sigma Malaysia
X-ORIGINAL-URL:https://sixsigma.com.my/training
X-WR-CALDESC:Events for Six Sigma Malaysia
REFRESH-INTERVAL;VALUE=DURATION:PT1H
X-Robots-Tag:noindex
X-PUBLISHED-TTL:PT1H
BEGIN:VTIMEZONE
TZID:Asia/Kuala_Lumpur
BEGIN:STANDARD
TZOFFSETFROM:+0800
TZOFFSETTO:+0800
TZNAME:+08
DTSTART:20230101T000000
END:STANDARD
END:VTIMEZONE
BEGIN:VEVENT
DTSTART;VALUE=DATE:20260420
DTEND;VALUE=DATE:20260422
DTSTAMP:20260423T012251
CREATED:20251028T110623Z
LAST-MODIFIED:20251028T110623Z
UID:10000259-1776643200-1776815999@sixsigma.com.my
SUMMARY:Root Cause Analysis\, RCA
DESCRIPTION:Root Cause Analysis\, RCA \n  \n\nLearn how to investigate and solve your problems\, so that you leave them behind for good.\nRoot Cause Analysis (RCA) is a class of problem solving methods aimed at identifying the root causes of problems or events.\nThe natural tendency of many individuals and organizations when presented with a problem is to hastily come to a solution – any solution. They do not systematically analyze the problem to determine a root cause before considering potential solutions.\nThe course will cover Logical and Root Cause Analysis tools that can be applied to identify potential root causes\, which will then be verified.
URL:https://sixsigma.com.my/training/event/root-cause-analysis-rca-2025-2-2-3-2-2/
LOCATION:MBizM Sdn. Bhd.\, Leisure Commerce Square\, Petaling Jaya\, Selangor\, 46150\, Malaysia
CATEGORIES:Root Cause Analysis, RCA
ATTACH;FMTTYPE=image/png:https://sixsigma.com.my/training/wp-content/uploads/2023/12/Root-Cause-Analysis-RCA.png
ORGANIZER;CN="MBizM Sdn. Bhd.":MAILTO:enquiry@mbizm.com
END:VEVENT
BEGIN:VEVENT
DTSTART;VALUE=DATE:20260122
DTEND;VALUE=DATE:20260124
DTSTAMP:20260423T012251
CREATED:20251028T110534Z
LAST-MODIFIED:20251028T110534Z
UID:10000258-1769040000-1769212799@sixsigma.com.my
SUMMARY:Root Cause Analysis\, RCA
DESCRIPTION:Root Cause Analysis\, RCA \n  \n\nLearn how to investigate and solve your problems\, so that you leave them behind for good.\nRoot Cause Analysis (RCA) is a class of problem solving methods aimed at identifying the root causes of problems or events.\nThe natural tendency of many individuals and organizations when presented with a problem is to hastily come to a solution – any solution. They do not systematically analyze the problem to determine a root cause before considering potential solutions.\nThe course will cover Logical and Root Cause Analysis tools that can be applied to identify potential root causes\, which will then be verified.
URL:https://sixsigma.com.my/training/event/root-cause-analysis-rca-2025-2-2-3-2/
LOCATION:MBizM Sdn. Bhd.\, Leisure Commerce Square\, Petaling Jaya\, Selangor\, 46150\, Malaysia
CATEGORIES:Root Cause Analysis, RCA
ATTACH;FMTTYPE=image/png:https://sixsigma.com.my/training/wp-content/uploads/2023/12/Root-Cause-Analysis-RCA.png
ORGANIZER;CN="MBizM Sdn. Bhd.":MAILTO:enquiry@mbizm.com
END:VEVENT
BEGIN:VEVENT
DTSTART;VALUE=DATE:20251009
DTEND;VALUE=DATE:20251011
DTSTAMP:20260423T012251
CREATED:20250301T051333Z
LAST-MODIFIED:20250301T051333Z
UID:10000232-1759968000-1760140799@sixsigma.com.my
SUMMARY:Root Cause Analysis\, RCA
DESCRIPTION:Root Cause Analysis\, RCA \n  \n\nLearn how to investigate and solve your problems\, so that you leave them behind for good.\nRoot Cause Analysis (RCA) is a class of problem solving methods aimed at identifying the root causes of problems or events.\nThe natural tendency of many individuals and organizations when presented with a problem is to hastily come to a solution – any solution. They do not systematically analyze the problem to determine a root cause before considering potential solutions.\nThe course will cover Logical and Root Cause Analysis tools that can be applied to identify potential root causes\, which will then be verified.
URL:https://sixsigma.com.my/training/event/root-cause-analysis-rca-2025-2-2-3/
LOCATION:MBizM Sdn. Bhd.\, Leisure Commerce Square\, Petaling Jaya\, Selangor\, 46150\, Malaysia
CATEGORIES:Root Cause Analysis, RCA
ATTACH;FMTTYPE=image/png:https://sixsigma.com.my/training/wp-content/uploads/2023/12/Root-Cause-Analysis-RCA.png
ORGANIZER;CN="MBizM Sdn. Bhd.":MAILTO:enquiry@mbizm.com
END:VEVENT
BEGIN:VEVENT
DTSTART;VALUE=DATE:20250714
DTEND;VALUE=DATE:20250716
DTSTAMP:20260423T012251
CREATED:20250301T051304Z
LAST-MODIFIED:20250301T051304Z
UID:10000231-1752451200-1752623999@sixsigma.com.my
SUMMARY:Root Cause Analysis\, RCA
DESCRIPTION:Root Cause Analysis\, RCA \n  \n\nLearn how to investigate and solve your problems\, so that you leave them behind for good.\nRoot Cause Analysis (RCA) is a class of problem solving methods aimed at identifying the root causes of problems or events.\nThe natural tendency of many individuals and organizations when presented with a problem is to hastily come to a solution – any solution. They do not systematically analyze the problem to determine a root cause before considering potential solutions.\nThe course will cover Logical and Root Cause Analysis tools that can be applied to identify potential root causes\, which will then be verified.
URL:https://sixsigma.com.my/training/event/root-cause-analysis-rca-2025-2-2-2/
LOCATION:MBizM Sdn. Bhd.\, Leisure Commerce Square\, Petaling Jaya\, Selangor\, 46150\, Malaysia
CATEGORIES:Root Cause Analysis, RCA
ATTACH;FMTTYPE=image/png:https://sixsigma.com.my/training/wp-content/uploads/2023/12/Root-Cause-Analysis-RCA.png
ORGANIZER;CN="MBizM Sdn. Bhd.":MAILTO:enquiry@mbizm.com
END:VEVENT
BEGIN:VEVENT
DTSTART;VALUE=DATE:20250619
DTEND;VALUE=DATE:20250621
DTSTAMP:20260423T012251
CREATED:20250126T042958Z
LAST-MODIFIED:20250126T042958Z
UID:10000210-1750291200-1750463999@sixsigma.com.my
SUMMARY:Root Cause Analysis\, RCA
DESCRIPTION:Root Cause Analysis\, RCA \n  \n\nLearn how to investigate and solve your problems\, so that you leave them behind for good.\nRoot Cause Analysis (RCA) is a class of problem solving methods aimed at identifying the root causes of problems or events.\nThe natural tendency of many individuals and organizations when presented with a problem is to hastily come to a solution – any solution. They do not systematically analyze the problem to determine a root cause before considering potential solutions.\nThe course will cover Logical and Root Cause Analysis tools that can be applied to identify potential root causes\, which will then be verified.
URL:https://sixsigma.com.my/training/event/root-cause-analysis-rca-2025-2-2/
LOCATION:MBizM Sdn. Bhd.\, Leisure Commerce Square\, Petaling Jaya\, Selangor\, 46150\, Malaysia
CATEGORIES:Root Cause Analysis, RCA
ATTACH;FMTTYPE=image/png:https://sixsigma.com.my/training/wp-content/uploads/2023/12/Root-Cause-Analysis-RCA.png
ORGANIZER;CN="MBizM Sdn. Bhd.":MAILTO:enquiry@mbizm.com
END:VEVENT
BEGIN:VEVENT
DTSTART;VALUE=DATE:20250424
DTEND;VALUE=DATE:20250426
DTSTAMP:20260423T012251
CREATED:20250126T042739Z
LAST-MODIFIED:20250126T042852Z
UID:10000209-1745452800-1745625599@sixsigma.com.my
SUMMARY:Root Cause Analysis\, RCA
DESCRIPTION:Root Cause Analysis\, RCA \n  \n\nLearn how to investigate and solve your problems\, so that you leave them behind for good.\nRoot Cause Analysis (RCA) is a class of problem solving methods aimed at identifying the root causes of problems or events.\nThe natural tendency of many individuals and organizations when presented with a problem is to hastily come to a solution – any solution. They do not systematically analyze the problem to determine a root cause before considering potential solutions.\nThe course will cover Logical and Root Cause Analysis tools that can be applied to identify potential root causes\, which will then be verified.
URL:https://sixsigma.com.my/training/event/root-cause-analysis-rca-2025-2/
LOCATION:MBizM Sdn. Bhd.\, Leisure Commerce Square\, Petaling Jaya\, Selangor\, 46150\, Malaysia
CATEGORIES:Root Cause Analysis, RCA
ATTACH;FMTTYPE=image/png:https://sixsigma.com.my/training/wp-content/uploads/2023/12/Root-Cause-Analysis-RCA.png
ORGANIZER;CN="MBizM Sdn. Bhd.":MAILTO:enquiry@mbizm.com
END:VEVENT
BEGIN:VEVENT
DTSTART;VALUE=DATE:20250206
DTEND;VALUE=DATE:20250208
DTSTAMP:20260423T012251
CREATED:20250126T042637Z
LAST-MODIFIED:20250126T042637Z
UID:10000208-1738800000-1738972799@sixsigma.com.my
SUMMARY:Root Cause Analysis\, RCA
DESCRIPTION:Root Cause Analysis\, RCA \n  \n\nLearn how to investigate and solve your problems\, so that you leave them behind for good.\nRoot Cause Analysis (RCA) is a class of problem solving methods aimed at identifying the root causes of problems or events.\nThe natural tendency of many individuals and organizations when presented with a problem is to hastily come to a solution – any solution. They do not systematically analyze the problem to determine a root cause before considering potential solutions.\nThe course will cover Logical and Root Cause Analysis tools that can be applied to identify potential root causes\, which will then be verified.
URL:https://sixsigma.com.my/training/event/root-cause-analysis-rca-2025/
LOCATION:MBizM Sdn. Bhd.\, Leisure Commerce Square\, Petaling Jaya\, Selangor\, 46150\, Malaysia
CATEGORIES:Root Cause Analysis, RCA
ATTACH;FMTTYPE=image/png:https://sixsigma.com.my/training/wp-content/uploads/2023/12/Root-Cause-Analysis-RCA.png
ORGANIZER;CN="MBizM Sdn. Bhd.":MAILTO:enquiry@mbizm.com
END:VEVENT
BEGIN:VEVENT
DTSTART;VALUE=DATE:20241017
DTEND;VALUE=DATE:20241019
DTSTAMP:20260423T012251
CREATED:20240702T141812Z
LAST-MODIFIED:20240702T141812Z
UID:10000174-1729123200-1729295999@sixsigma.com.my
SUMMARY:Root Cause Analysis\, RCA
DESCRIPTION:Root Cause Analysis\, RCA \n  \n\nLearn how to investigate and solve your problems\, so that you leave them behind for good.\nRoot Cause Analysis (RCA) is a class of problem solving methods aimed at identifying the root causes of problems or events.\nThe natural tendency of many individuals and organizations when presented with a problem is to hastily come to a solution – any solution. They do not systematically analyze the problem to determine a root cause before considering potential solutions.\nThe course will cover Logical and Root Cause Analysis tools that can be applied to identify potential root causes\, which will then be verified.
URL:https://sixsigma.com.my/training/event/root-cause-analysis-rca-2024-2/
LOCATION:MBizM Sdn. Bhd.\, Leisure Commerce Square\, Petaling Jaya\, Selangor\, 46150\, Malaysia
CATEGORIES:Root Cause Analysis, RCA
ATTACH;FMTTYPE=image/png:https://sixsigma.com.my/training/wp-content/uploads/2023/12/Root-Cause-Analysis-RCA.png
ORGANIZER;CN="MBizM Sdn. Bhd.":MAILTO:enquiry@mbizm.com
END:VEVENT
BEGIN:VEVENT
DTSTART;VALUE=DATE:20240715
DTEND;VALUE=DATE:20240717
DTSTAMP:20260423T012251
CREATED:20240702T141737Z
LAST-MODIFIED:20251021T135759Z
UID:10000173-1721001600-1721174399@sixsigma.com.my
SUMMARY:Root Cause Analysis\, RCA
DESCRIPTION:Root Cause Analysis\, RCA \n \n\n 	Learn how to investigate and solve your problems\, so that you leave them behind for good.\n 	Root Cause Analysis (RCA) is a class of problem solving methods aimed at identifying the root causes of problems or events.\n 	The natural tendency of many individuals and organizations when presented with a problem is to hastily come to a solution – any solution. They do not systematically analyze the problem to determine a root cause before considering potential solutions.\n 	The course will cover Logical and Root Cause Analysis tools that can be applied to identify potential root causes\, which will then be verified.
URL:https://sixsigma.com.my/training/event/root-cause-analysis-rca-2024/
LOCATION:MBizM Sdn. Bhd.\, Leisure Commerce Square\, Petaling Jaya\, Selangor\, 46150\, Malaysia
CATEGORIES:Root Cause Analysis, RCA
ATTACH;FMTTYPE=image/png:https://sixsigma.com.my/training/wp-content/uploads/2023/12/Root-Cause-Analysis-RCA.png
ORGANIZER;CN="MBizM Sdn. Bhd.":MAILTO:enquiry@mbizm.com
END:VEVENT
BEGIN:VEVENT
DTSTART;VALUE=DATE:20240429
DTEND;VALUE=DATE:20240501
DTSTAMP:20260423T012251
CREATED:20231211T055428Z
LAST-MODIFIED:20231228T165735Z
UID:10000141-1714348800-1714521599@sixsigma.com.my
SUMMARY:Root Cause Analysis\, RCA
DESCRIPTION:Root Cause Analysis\, RCA \n  \n\nLearn how to investigate and solve your problems\, so that you leave them behind for good.\nRoot Cause Analysis (RCA) is a class of problem solving methods aimed at identifying the root causes of problems or events.\nThe natural tendency of many individuals and organizations when presented with a problem is to hastily come to a solution – any solution. They do not systematically analyze the problem to determine a root cause before considering potential solutions.\nThe course will cover Logical and Root Cause Analysis tools that can be applied to identify potential root causes\, which will then be verified.
URL:https://sixsigma.com.my/training/event/root-cause-analysis-rca-3-2/
LOCATION:MBizM Sdn. Bhd.\, Leisure Commerce Square\, Petaling Jaya\, Selangor\, 46150\, Malaysia
CATEGORIES:Root Cause Analysis, RCA
ATTACH;FMTTYPE=image/png:https://sixsigma.com.my/training/wp-content/uploads/2023/12/Root-Cause-Analysis-RCA.png
ORGANIZER;CN="MBizM Sdn. Bhd.":MAILTO:enquiry@mbizm.com
END:VEVENT
END:VCALENDAR