BEGIN:VCALENDAR
VERSION:2.0
PRODID:-//Six Sigma Malaysia - ECPv6.15.17.1//NONSGML v1.0//EN
CALSCALE:GREGORIAN
METHOD:PUBLISH
X-ORIGINAL-URL:https://sixsigma.com.my/training
X-WR-CALDESC:Events for Six Sigma Malaysia
REFRESH-INTERVAL;VALUE=DURATION:PT1H
X-Robots-Tag:noindex
X-PUBLISHED-TTL:PT1H
BEGIN:VTIMEZONE
TZID:Asia/Kuala_Lumpur
BEGIN:STANDARD
TZOFFSETFROM:+0800
TZOFFSETTO:+0800
TZNAME:+08
DTSTART:20250101T000000
END:STANDARD
END:VTIMEZONE
BEGIN:VEVENT
DTSTART;VALUE=DATE:20260427
DTEND;VALUE=DATE:20260429
DTSTAMP:20260425T220831
CREATED:20251028T110327Z
LAST-MODIFIED:20251028T110327Z
UID:10000257-1777248000-1777420799@sixsigma.com.my
SUMMARY:QIT / QCC and 7QC Tools
DESCRIPTION:A Quality Improvement Team (QIT) is a small group of workers (6-10 persons) from the same unit who meet regularly to identify\, select and analyse work-related problems. QITs are also called Quality Control Circles (QCC). This training package gives an overview of QITs and the relevant tools (7QC Tools) for teamwork in problem-solving exercises. \nThis training package will give a new perspective of team meetings that will shorten meeting times\, give a clear focus to the purpose of the meeting\, and assure that everyone has the same opportunity to contribute to the solution.This package is for everyone in the manufacturing / service sectors.
URL:https://sixsigma.com.my/training/event/qit-qcc-and-7qc-tools-2025-2-3-2-2/
LOCATION:MBizM Sdn. Bhd.\, Leisure Commerce Square\, Petaling Jaya\, Selangor\, 46150\, Malaysia
CATEGORIES:Quality Improvement Teams & 7QC Tools
ATTACH;FMTTYPE=image/png:https://sixsigma.com.my/training/wp-content/uploads/2023/12/QIT-QCC-and-7QC-Tools.png
ORGANIZER;CN="MBizM Sdn. Bhd.":MAILTO:enquiry@mbizm.com
END:VEVENT
BEGIN:VEVENT
DTSTART;VALUE=DATE:20260511
DTEND;VALUE=DATE:20260514
DTSTAMP:20260425T220831
CREATED:20251028T111658Z
LAST-MODIFIED:20251028T111658Z
UID:10000263-1778457600-1778716799@sixsigma.com.my
SUMMARY:Lean Six Sigma Green Belt Classroom Training
DESCRIPTION:[vc_row][vc_column][vc_column_text css=””] \nThe Green Belt Course is designed to improve process performance\, deliver medium to high impact projects and achieve significant cost savings. Six Sigma Green Belt is designed so that people acquire the special skills and knowledge required before leading or taking part in any continuous improvement project. \nGreen Belts will effectively use the Six Sigma tools in their organization\, with customers and suppliers for achieving business improvement results. Green Belts will gain thorough understanding of all aspects of the DMAIC model in accordance with Six Sigma principles. \nGreen Belts will gain knowledge of Lean enterprise concepts and will be able to identify non-value-added elements and activities. \n  \nDates: \n\n\n\n\n(Session1) \nMAY \n\n(Session2) \nJUN\n\n\n11-13\n08-10\n\n\n\n[/vc_column_text][/vc_column][/vc_row]
URL:https://sixsigma.com.my/training/event/lean-six-sigma-green-belt-classroom-training-2-2/
LOCATION:MBizM Sdn. Bhd.\, Leisure Commerce Square\, Petaling Jaya\, Selangor\, 46150\, Malaysia
CATEGORIES:Lean Six Sigma Green Belt
ATTACH;FMTTYPE=image/png:https://sixsigma.com.my/training/wp-content/uploads/2023/12/Lean-Six-Sigma-Green-Belt-Online-training-Event.png
ORGANIZER;CN="MBizM Sdn. Bhd.":MAILTO:enquiry@mbizm.com
END:VEVENT
BEGIN:VEVENT
DTSTART;VALUE=DATE:20260511
DTEND;VALUE=DATE:20260515
DTSTAMP:20260425T220831
CREATED:20251028T111345Z
LAST-MODIFIED:20251028T111345Z
UID:10000261-1778457600-1778803199@sixsigma.com.my
SUMMARY:Lean Six Sigma Black Belt Accelerated Classroom Training
DESCRIPTION:[vc_row][vc_column][vc_column_text css=””] \nThe Black Belt Accelerated Course is designed to improve process performance\, deliver medium to high impact projects and achieve significant cost savings. Six Sigma Black Belt Accelerated is designed so that people acquire the special skills and knowledge required before leading or taking part in any continuous improvement project. \nBlack Belt Accelerated will effectively use the Six Sigma tools in their organization\, with customers and suppliers for achieving business improvement results. Black Belt Accelerated will gain thorough understanding of all aspects of the DMAIC model in accordance with Six Sigma principles. \nBlack Belt Accelerated will gain knowledge of Lean enterprise concepts and will be able to identify non-value-added elements and activities. \n  \nDates: \n\n\n\n\n(Session 1) \nMAY \n\n(Session 2) \nJUN\n\n\n11-14\n08-11\n\n\n\n[/vc_column_text][/vc_column][/vc_row]
URL:https://sixsigma.com.my/training/event/lean-six-sigma-black-belt-accelerated-classroom-training-3-2-2/
LOCATION:MBizM Sdn. Bhd.\, Leisure Commerce Square\, Petaling Jaya\, Selangor\, 46150\, Malaysia
CATEGORIES:Lean Six Sigma BLACK BELT Accelerated
ATTACH;FMTTYPE=image/png:https://sixsigma.com.my/training/wp-content/uploads/2023/12/Lean-Six-Sigma-Black-Belt-Classroom-training-Event.png
ORGANIZER;CN="MBizM Sdn. Bhd.":MAILTO:enquiry@mbizm.com
END:VEVENT
BEGIN:VEVENT
DTSTART;VALUE=DATE:20260515
DTEND;VALUE=DATE:20260516
DTSTAMP:20260425T220831
CREATED:20251028T110016Z
LAST-MODIFIED:20251028T110016Z
UID:10000255-1778803200-1778889599@sixsigma.com.my
SUMMARY:Quality Function Deployment\, QFD
DESCRIPTION:Quality Function Deployment (QFD) is a methodology for the development of features\, attributes\, or functions that give a product or service high quality. It is helpful in delivering quality products or services based on the Voice of the Customer (VOC). QFD is particularly useful in analyzing the data that have been collected and in facilitating the conversion of customer needs into product features\, process characteristics and plans. \nIn this Programme\, one will learn\, amongst other things:\n– Brief History & Principles of QFD\n– Understanding spoken and unspoken requirements of the VOC\n– How to translate key customer needs into product specifications\n– How to communicate these customer needs to each functional group
URL:https://sixsigma.com.my/training/event/quality-function-deployment-qfd-2025-2-3-2-2/
LOCATION:MBizM Sdn. Bhd.\, Leisure Commerce Square\, Petaling Jaya\, Selangor\, 46150\, Malaysia
CATEGORIES:Quality Function Deployment
ATTACH;FMTTYPE=image/png:https://sixsigma.com.my/training/wp-content/uploads/2023/12/Quality-Function-Deployment-QFD-3.png
ORGANIZER;CN="MBizM Sdn. Bhd.":MAILTO:enquiry@mbizm.com
END:VEVENT
BEGIN:VEVENT
DTSTART;VALUE=DATE:20260522
DTEND;VALUE=DATE:20260523
DTSTAMP:20260425T220831
CREATED:20251028T105410Z
LAST-MODIFIED:20251028T105410Z
UID:10000251-1779408000-1779494399@sixsigma.com.my
SUMMARY:QS E3 Process Excellence
DESCRIPTION:This interactive program  incorporates a continuous improvement framework. Participants will be given a hands-on experience in solving critical business issues by using a structured problem-solving process and the continuous improvement methodology. Ascent E³ which comprises Envision\, Execute and Experience is a three-stage project which help a client company attain world-class operational excellence. \n  \nObjectives: \nThe QS E³ Simulation is an interactive workshop designed to demonstrate how breakthrough performance can be achieved with the hands on application of process improvement methodologies. \n  \nYou will learn: \n\nThe continuous improvement language\nWorking and practical knowledge of continuous improvement tools\nHow to achieve breakthrough performance methodologically\nTo understand the Voice of Customers and its effect on Business results\nEffective Communication and Thinking out of the box\nEliminate the undesirable effects
URL:https://sixsigma.com.my/training/event/qs-e3-process-excellence-2025-2-2-4-2-2-2/
LOCATION:MBizM Sdn. Bhd.\, Leisure Commerce Square\, Petaling Jaya\, Selangor\, 46150\, Malaysia
CATEGORIES:QS E³ Process Excellence Simulation
ATTACH;FMTTYPE=image/png:https://sixsigma.com.my/training/wp-content/uploads/2023/12/QS-E3-Process-Excellence.png
ORGANIZER;CN="MBizM Sdn. Bhd.":MAILTO:enquiry@mbizm.com
END:VEVENT
BEGIN:VEVENT
DTSTART;VALUE=DATE:20260525
DTEND;VALUE=DATE:20260527
DTSTAMP:20260425T220831
CREATED:20251028T104622Z
LAST-MODIFIED:20251028T104622Z
UID:10000246-1779667200-1779839999@sixsigma.com.my
SUMMARY:Comprehensive Introduction to Six Sigma (CISS)
DESCRIPTION:This course is designed for those at managerial level with the aim of raising in-depth awareness of what Six Sigma is about\, and how leading Six Sigma companies are achieving high performance results. \nThe success factors for achieving such results are presented and discussed along with the roles and responsibilities of management. \nThe main aim of this course is to encourage Participants to be responsible for the implementation of Six Sigma in their respective organizations. This course is meant for Managers\, Senior Leaders who are to be responsible for designing and implementation of corporate-wide Six Sigma improvement initiatives.
URL:https://sixsigma.com.my/training/event/comprehensive-introduction-to-six-sigma-ciss-2025-2-3-2-2/
LOCATION:MBizM Sdn. Bhd.\, Leisure Commerce Square\, Petaling Jaya\, Selangor\, 46150\, Malaysia
CATEGORIES:Comprehensive Introduction to Six Sigma (CISS)
ATTACH;FMTTYPE=image/png:https://sixsigma.com.my/training/wp-content/uploads/2023/12/Comprehensive-Introduction-to-Lean-Six-Sigma-CISS.png
ORGANIZER;CN="MBizM Sdn. Bhd.":MAILTO:enquiry@mbizm.com
END:VEVENT
BEGIN:VEVENT
DTSTART;VALUE=DATE:20260602
DTEND;VALUE=DATE:20260606
DTSTAMP:20260425T220831
CREATED:20251028T105109Z
LAST-MODIFIED:20251028T105109Z
UID:10000248-1780358400-1780703999@sixsigma.com.my
SUMMARY:Lean Six Sigma Step Up to Black Belt Training
DESCRIPTION:The Black Belt Step-Up Course is designed to improve process performance\, deliver medium to high impact projects and achieve significant cost savings. The Certified Lean Six Sigma Black Belt is a professional who can explain Lean Six Sigma philosophies and principles\, including supporting systems and tools. \nBlack Belts will demonstrate team leadership\, understand team dynamics and assign team member roles and responsibilities. Black Belt will gain thorough understanding of all aspects of the DMAIC model in accordance with Six Sigma principles. \nBlack Belt will gain knowledge of Lean enterprise concepts and will be able to identify non-value-added elements and activities.
URL:https://sixsigma.com.my/training/event/lean-six-sigma-step-up-to-black-belt-training-3-3-2-2/
LOCATION:MBizM Sdn. Bhd.\, Leisure Commerce Square\, Petaling Jaya\, Selangor\, 46150\, Malaysia
CATEGORIES:Lean Six Sigma Step-Up To BLACK BELT
ATTACH;FMTTYPE=image/png:https://sixsigma.com.my/training/wp-content/uploads/2023/12/Lean-Six-Sigma-Black-Belt-Classroom-training-Event.png
ORGANIZER;CN="MBizM Sdn. Bhd.":MAILTO:enquiry@mbizm.com
END:VEVENT
END:VCALENDAR